{"text_format":"1","workbook":"xlsx","n_sheets":4,"sheets":["Spillertøj","Målmand","Prisberegner","Liste"],"not_rendered":{"charts":0,"images":18,"macros":1,"external_links":0,"defined_names":2,"comments":0,"pivot_tables":0},"unopened":[],"bounds":{"document_bytes":16777216,"sheet_cells":100000,"rows_first":2000,"rows_last":500,"rows_between":2000,"halvings":0,"cell_chars":16384,"cell_head_chars":4096},"cells_cut":0,"cells_raw":0,"read":"whole","date_system":"1900"}

{"sheet":"Spillertøj","index":0,"n_rows":64,"n_cols":22,"rows_kept":64,"cut":false,"hidden":false,"merged":[[25,6,25,7],[25,8,25,9],[25,10,25,11],[25,12,25,13],[25,14,25,15],[25,16,25,17],[25,18,25,19],[25,20,25,21],[26,4,26,5],[26,6,26,7],[26,8,26,9],[26,10,26,11],[26,12,26,13],[26,14,26,15],[26,16,26,17],[26,18,26,19],[26,20,26,21],[23,6,23,7],[23,8,23,9],[23,10,23,11],[23,12,23,13],[23,14,23,15],[23,16,23,17],[23,18,23,19],[23,20,23,21],[24,4,24,5],[24,6,24,7],[24,8,24,9],[24,10,24,11],[24,12,24,13],[24,14,24,15],[24,16,24,17],[24,18,24,19],[24,20,24,21],[21,6,21,7],[21,8,21,9],[21,10,21,11],[21,12,21,13],[21,14,21,15],[21,16,21,17],[21,18,21,19],[21,20,21,21],[22,4,22,5],[22,6,22,7],[22,8,22,9],[22,10,22,11],[22,12,22,13],[22,14,22,15],[22,16,22,17],[22,18,22,19],[22,20,22,21],[19,6,19,7],[19,8,19,9],[19,10,19,11],[19,12,19,13],[19,14,19,15],[19,16,19,17],[19,18,19,19],[19,20,19,21],[20,4,20,5],[20,6,20,7],[20,8,20,9],[20,10,20,11],[20,12,20,13],[20,14,20,15],[20,16,20,17],[20,18,20,19],[20,20,20,21],[17,6,17,7],[17,8,17,9],[17,10,17,11],[17,12,17,13],[17,14,17,15],[17,16,17,17],[17,18,17,19],[17,20,17,21],[18,4,18,5],[18,6,18,7],[18,8,18,9],[18,10,18,11],[18,12,18,13],[18,14,18,15],[18,16,18,17],[18,18,18,19],[18,20,18,21],[15,6,15,7],[15,8,15,9],[15,10,15,11],[15,12,15,13],[15,14,15,15],[15,16,15,17],[15,18,15,19],[15,20,15,21],[16,4,16,5],[16,6,16,7],[16,8,16,9],[16,10,16,11],[16,12,16,13],[16,14,16,15],[16,16,16,17],[16,18,16,19],[16,20,16,21],[13,6,13,7],[13,8,13,9],[13,10,13,11],[13,12,13,13],[13,14,13,15],[13,16,13,17],[13,18,13,19],[13,20,13,21],[14,4,14,5],[14,6,14,7],[14,8,14,9],[14,10,14,11],[14,12,14,13],[14,14,14,15],[14,16,14,17],[14,18,14,19],[14,20,14,21],[11,6,11,7],[11,8,11,9],[11,10,11,11],[11,12,11,13],[11,14,11,15],[11,16,11,17],[11,18,11,19],[11,20,11,21],[12,4,12,5],[12,6,12,7],[12,8,12,9],[12,10,12,11],[12,12,12,13],[12,14,12,15],[12,16,12,17],[12,18,12,19],[12,20,12,21],[52,1,63,3],[33,6,33,7],[33,8,33,9],[33,10,33,11],[33,12,33,13],[33,14,33,15],[33,16,33,17],[33,18,33,19],[33,20,33,21],[36,12,36,13],[42,20,42,21],[43,20,43,21],[44,20,44,21],[45,20,45,21],[46,20,46,21],[47,20,47,21],[48,20,48,21],[49,20,49,21],[40,20,40,21],[48,10,48,11],[40,18,40,19],[41,18,41,19],[42,18,42,19],[43,18,43,19],[32,6,32,7],[32,8,32,9],[32,10,32,11],[32,12,32,13],[32,14,32,15],[30,8,30,9],[30,10,30,11],[30,12,30,13],[30,14,30,15],[31,6,31,7],[31,8,31,9],[31,10,31,11],[31,12,31,13],[31,14,31,15],[30,6,30,7],[29,6,29,7],[29,8,29,9],[29,10,29,11],[29,12,29,13],[29,14,29,15],[29,16,29,17],[29,18,29,19],[29,20,29,21],[27,6,27,7],[27,8,27,9],[27,10,27,11],[27,12,27,13],[27,14,27,15],[27,16,27,17],[27,18,27,19],[27,20,27,21],[28,6,28,7],[28,8,28,9],[28,10,28,11],[28,12,28,13],[10,8,10,9],[10,10,10,11],[10,12,10,13],[10,14,10,15],[35,16,35,17],[35,18,35,19],[35,20,35,21],[10,16,10,17],[10,18,10,19],[10,20,10,21],[31,16,31,17],[31,18,31,19],[31,20,31,21],[49,18,49,19],[9,16,9,17],[9,18,9,19],[9,20,9,21],[9,6,9,7],[9,8,9,9],[9,10,9,11],[9,12,9,13],[34,16,34,17],[34,18,34,19],[34,20,34,21],[35,6,35,7],[35,8,35,9],[35,10,35,11],[35,12,35,13],[35,14,35,15],[34,6,34,7],[34,8,34,9],[34,10,34,11],[34,12,34,13],[36,6,36,7],[36,8,36,9],[36,10,36,11],[10,6,10,7],[44,18,44,19],[45,18,45,19],[46,18,46,19],[47,18,47,19],[48,18,48,19],[46,16,46,17],[47,16,47,17],[48,16,48,17],[2,20,2,21],[3,20,3,21],[6,20,6,21],[7,20,7,21],[8,20,8,21],[37,20,37,21],[38,20,38,21],[39,20,39,21],[2,18,2,19],[3,18,3,19],[6,18,6,19],[7,18,7,19],[8,18,8,19],[41,20,41,21],[37,18,37,19],[38,18,38,19],[36,18,36,19],[36,20,36,21],[28,16,28,17],[28,18,28,19],[28,20,28,21],[30,16,30,17],[30,18,30,19],[30,20,30,21],[32,16,32,17],[32,18,32,19],[32,20,32,21],[39,18,39,19],[28,14,28,15],[49,10,49,11],[40,10,40,11],[2,10,2,11],[3,10,3,11],[6,10,6,11],[7,10,7,11],[8,10,8,11],[37,10,37,11],[38,10,38,11],[39,10,39,11],[42,10,42,11],[43,10,43,11],[44,10,44,11],[45,10,45,11],[46,10,46,11],[47,10,47,11],[41,10,41,11],[8,12,8,13],[37,12,37,13],[38,12,38,13],[48,12,48,13],[49,12,49,13],[47,12,47,13],[42,12,42,13],[45,12,45,13],[46,12,46,13],[40,12,40,13],[41,12,41,13],[43,12,43,13],[44,12,44,13],[39,12,39,13],[49,6,49,7],[49,8,49,9],[49,4,49,5],[48,8,48,9],[8,6,8,7],[37,6,37,7],[38,6,38,7],[37,4,37,5],[38,4,38,5],[8,4,8,5],[42,8,42,9],[43,8,43,9],[44,8,44,9],[45,8,45,9],[47,8,47,9],[46,8,46,9],[8,8,8,9],[37,8,37,9],[38,8,38,9],[39,8,39,9],[40,8,40,9],[41,8,41,9],[35,4,35,5],[34,4,34,5],[48,6,48,7],[41,6,41,7],[44,6,44,7],[42,6,42,7],[40,6,40,7],[47,6,47,7],[43,6,43,7],[39,4,39,5],[39,6,39,7],[45,6,45,7],[47,4,47,5],[43,4,43,5],[41,4,41,5],[44,4,44,5],[42,4,42,5],[7,4,7,5],[45,4,45,5],[9,4,9,5],[48,4,48,5],[36,4,36,5],[10,4,10,5],[27,4,27,5],[29,4,29,5],[31,4,31,5],[33,4,33,5],[28,4,28,5],[30,4,30,5],[32,4,32,5],[11,4,11,5],[13,4,13,5],[15,4,15,5],[17,4,17,5],[19,4,19,5],[21,4,21,5],[23,4,23,5],[25,4,25,5],[1,1,1,3],[0,1,0,3],[3,4,3,5],[2,1,6,1],[2,2,6,2],[3,8,3,9],[2,8,2,9],[2,6,2,7],[3,6,3,7],[6,6,6,7],[2,4,2,5],[6,4,6,5],[7,14,7,15],[7,16,7,17],[6,14,6,15],[6,16,6,17],[3,14,3,15],[3,16,3,17],[2,14,2,15],[2,16,2,17],[46,4,46,5],[46,6,46,7],[7,8,7,9],[6,8,6,9],[40,4,40,5],[7,6,7,7],[42,14,42,15],[43,14,43,15],[44,14,44,15],[40,14,40,15],[41,14,41,15],[46,14,46,15],[2,12,2,13],[3,12,3,13],[6,12,6,13],[7,12,7,13],[49,16,49,17],[39,14,39,15],[39,16,39,17],[38,14,38,15],[38,16,38,17],[37,14,37,15],[37,16,37,17],[8,14,8,15],[8,16,8,17],[9,14,9,15],[47,14,47,15],[48,14,48,15],[49,14,49,15],[45,14,45,15],[40,16,40,17],[41,16,41,17],[42,16,42,17],[43,16,43,17],[44,16,44,17],[45,16,45,17],[36,14,36,15],[34,14,34,15],[36,16,36,17]]}
[]
[]
[null,"Skriv det navn som skal trykkes på trøjen ","Skriv  nummer",null,"Hjemmebane - T-shirt",null,"Hjemmebane - Shorts",null,"Strømper",null,"Sleeve",null,"Udebane - T-shirt",null,"Mål mandstrøje",null,"Målmandshorts",null,"Strømper",null,"Sleeve"]
[null,null,null,"Farve","Rød 3946",null,"Sort 2114",null,"Sort 2114",null,"Sort 2114",null,"Blå/Gul - 16",null,"Grøn 6129",null,"Grøn 6129",null,"Grøn 6129",null,"Grøn 6129"]
[null,null,null,"Voksen","230826-3946",270,"230829-2114",165,"226906-2114",65,"226909-2114",65,"230826-1299",270,"230839-6129",270,"230829-6129",165,"226906-6129",65,"226909-6129",65]
[null,null,null,"Børn","230827-3946",270,"230830-2114",165,null,null,null,null,"230827-1299",270,"230840-6129",270,"230830-6129",165]
[null,null,null,null,"hmlCORE2.0 Jersey S/S",null,"hmlCORE2.0 Shorts",null,"hmlESSENTIALFootball socks",null,"hmlESSENTIALFooballSleve",null,"hmlCORE2.0 Jersey S/S",null,"hmlCORE 2.0 Jersey L/S",null,"hmlCORE2.0 Shorts",null,"hmlESSENTIAL Football socks",null,"hmlESSENTIALFooballSleve"]
[null,"NAVNETRYK - 4 CM","NUMMER","Str","(116,128,140,152,164, XS,S,M,L,XL,XL,XXL, 3XL)",null,"(116,128,140,152,164, XS,S,M,L,XL,XL,XXL, 3XL)",null,"(27-30,31-34,35-38, 39-42,43-46,47-50)",null,"(Junior ell. Senior)",null,"(116,128,140,152,164, XS,S,M,L,XL,XL,XXL, 3XL)",null,"(116,128,140,152,164, XS,S,M,L,XL,XL,XXL, 3XL)",null,"(116,128,140,152,164, XS,S,M,L,XL,XL,XXL, 3XL)",null,"(27-30,31-34,35-38, 39-42,43-46,47-50)",null,"(Junior ell. Senior)"]
[null,null,1,null,"S",null,164]
[null,null,2]
[null,null,3]
[null,null,4]
[null,null,5]
[null,null,6]
[null,null,7]
[null,null,8]
[null,null,9]
[null,null,10]
[null,null,11]
[null,null,12]
[null,null,13]
[null,null,14]
[null,null,15]
[null,null,16]
[null,null,17]
[null,null,18]
[null,null,19]
[null,null,20]
[null,null,21]
[null,null,22]
[null,null,23]
[null,null,24]
[null,null,25]
[null,null,26]
[null,null,27]
[null,null,28]
[null,null,29]
[null,null,30]
[]
[]
[]
[]
[]
[]
[]
[]
[]
[]
[]
[null,{"$f":"COUNTA(B9:B49)","v":0},{"$f":"COUNTA(C9:C49)","v":30},null,{"$f":"COUNTA(E9:F49)","v":1},null,{"$f":"COUNTA(G9:H49)","v":1},null,{"$f":"COUNTA(I9:J49)","v":0},null,{"$f":"COUNTA(K9:L49)","v":0},null,{"$f":"COUNTA(M9:N49)","v":0},null,{"$f":"COUNTA(O9:P49)","v":0},null,{"$f":"COUNTA(Q9:R49)","v":0},null,{"$f":"COUNTA(S9:T49)","v":0},null,{"$f":"COUNTA(U9:V49)","v":0}]
[]
[]
[null,"Størrelsesfordeling",null,null,116,{"$f":"COUNTIF(E$9:F$49,E53)","v":0},116,{"$f":"COUNTIF(G$9:H$49,G53)","v":0},"27-30",{"$f":"COUNTIF(I$9:J$49,I53)","v":0},"Junior",{"$f":"COUNTIF(K$9:L$49,K53)","v":0},116,{"$f":"COUNTIF(M$9:N$49,M53)","v":0},116,{"$f":"COUNTIF(O$9:P$49,O53)","v":0},116,{"$f":"COUNTIF(Q$9:R$40,Q53)","v":0},"27-30",{"$f":"COUNTIF(S$9:T$49,S53)","v":0},"Junior",{"$f":"COUNTIF(U$9:V$49,U53)","v":0}]
[null,null,null,null,128,0,128,0,"31-34",0,"Senior",0,128,0,128,0,128,0,"31-34",0,"Senior",0]
[null,null,null,null,140,0,140,0,"35-38",0,null,null,140,0,140,0,140,0,"35-38",0]
[null,null,null,null,152,0,152,0,"39-42",0,null,null,152,0,152,0,152,0,"39-42",0]
[null,null,null,null,164,0,164,1,"43-46",0,null,null,164,0,164,0,164,0,"43-46",0]
[null,null,null,null,"XS",0,"XS",{"$f":"COUNTIF(G$9:H$49,G58)","v":0},"47-50",0,null,null,"XS",{"$f":"COUNTIF(M$9:N$49,M58)","v":0},"XS",{"$f":"COUNTIF(O$9:P$49,O58)","v":0},"XS",{"$f":"COUNTIF(Q$9:R$40,Q58)","v":0},"47-50",0]
[null,null,null,null,"S",{"$f":"COUNTIF(E$9:F$49,E59)","v":1},"S",0,null,null,null,null,"S",0,"S",0,"S",0]
[null,null,null,null,"M",0,"M",0,null,null,null,null,"M",0,"M",0,"M",0]
[null,null,null,null,"L",0,"L",0,null,null,null,null,"L",0,"L",0,"L",0]
[null,null,null,null,"XL",0,"XL",0,null,null,null,null,"XL",0,"XL",0,"XL",0]
[null,null,null,null,"XXL",0,"XXL",0,null,null,null,null,"XXL",0,"XXL",0,"XXL",0]
[null,null,null,null,"3XL",0,"3XL",0,null,null,null,null,"3XL",0,"3XL",0,"3XL",0]

{"sheet":"Målmand","index":1,"n_rows":27,"n_cols":25,"rows_kept":27,"cut":false,"hidden":true,"merged":[[13,19,13,20],[13,21,13,22],[13,23,13,24],[15,19,15,20],[15,21,15,22],[15,23,15,24],[12,23,12,24],[14,19,14,20],[14,21,14,22],[14,23,14,24],[9,23,9,24],[10,19,10,20],[10,21,10,22],[10,23,10,24],[11,19,11,20],[11,21,11,22],[11,23,11,24],[7,19,7,20],[7,21,7,22],[7,23,7,24],[8,19,8,20],[8,21,8,22],[8,23,8,24],[13,13,13,14],[13,15,13,16],[13,17,13,18],[2,19,2,20],[2,21,2,22],[2,23,2,24],[3,19,3,20],[3,21,3,22],[3,23,3,24],[6,19,6,20],[2,13,2,14],[2,15,2,16],[2,17,2,18],[3,13,3,14],[3,15,3,16],[3,17,3,18],[6,13,6,14],[6,15,6,16],[6,17,6,18],[11,17,11,18],[12,17,12,18],[12,19,12,20],[12,21,12,22],[11,13,11,14],[11,15,11,16],[12,13,12,14],[12,15,12,16],[9,17,9,18],[10,17,10,18],[9,19,9,20],[9,21,9,22],[9,13,9,14],[9,15,9,16],[10,13,10,14],[10,15,10,16],[7,15,7,16],[7,17,7,18],[8,15,8,16],[8,17,8,18],[7,13,7,14],[8,13,8,14],[6,21,6,22],[6,23,6,24],[13,3,13,4],[13,5,13,6],[13,7,13,8],[13,9,13,10],[13,11,13,12],[12,3,12,4],[12,5,12,6],[12,7,12,8],[12,9,12,10],[12,11,12,12],[10,3,10,4],[10,5,10,6],[10,7,10,8],[10,9,10,10],[10,11,10,12],[11,3,11,4],[11,5,11,6],[11,7,11,8],[11,9,11,10],[11,11,11,12],[8,3,8,4],[8,5,8,6],[8,7,8,8],[8,9,8,10],[8,11,8,12],[9,3,9,4],[9,5,9,6],[9,7,9,8],[9,9,9,10],[9,11,9,12],[6,9,6,10],[6,11,6,12],[7,3,7,4],[7,5,7,6],[7,7,7,8],[7,9,7,10],[7,11,7,12],[2,7,2,8],[2,9,2,10],[2,11,2,12],[3,3,3,4],[3,5,3,6],[3,7,3,8],[3,9,3,10],[3,11,3,12],[0,0,0,2],[1,0,1,2],[2,0,6,0],[2,1,6,1],[2,3,2,4],[2,5,2,6],[6,3,6,4],[6,5,6,6],[6,7,6,8]]}
[]
[]
["Skriv det navn som skal trykkes på trøjen ","Skriv  nummer",null,"MÅLMAND VOKSEN - MED NAVN",null,"MÅLMAND VOKSEN - UDEN NAVN",null,"MÅLMAND BØRN - MED NAVN",null,"MÅLMAND BØRN - UDEN NAVN",null,"MÅLMAND VOKSEN - MED NAVN",null,"MÅLMAND VOKSEN - UDEN NAVN",null,"MÅLMAND BØRN - MED NAVN",null,"MÅLMAND BØRN - UDEN NAVN",null,"MÅLMANDSSHORTS VOKSEN",null,"MÅLMANDSSHORTS BØRN",null," STRØMPER"]
[null,null,"Vælg farve","Grøn 05",null,"Grøn 05",null,"Grøn 05",null,"Grøn 05",null,"Grøn 20",null,"Grøn 20",null,"Grøn 20",null,"Grøn 20",null,"Grøn - 05",null,"Grøn - 05",null,"Grøn - 05"]
[null,null,"Voksen",706280,320,706280,260,null,null,null,null,706519,370,706519,310,null,null,null,null,705752,185,705753,165,703441,67.5]
[null,null,"Børn",null,null,null,null,706282,280,706282,220,null,null,null,null,706282,335,706282,275,null,null,null,null,703441,67.5]
[null,null,null,"VOKSEN",null,"VOKSEN",null,"BARN",null,"BARN",null,"VOKSEN",null,"VOKSEN",null,"BARN",null,"BARN",null,"Goal",null,"Goal",null,"teamLiga"]
["NAVNETRYK - 4 CM","NUMMER",null,"(XS,S,M,L,XL,XL,XXL)",null,"(XS,S,M,L,XL,XL,XXL)",null,"(116,128,140,152,164)",null,"(116,128,140,152,164)",null,"(XS,S,M,L,XL,XL,XXL)",null,"(XS,S,M,L,XL,XL,XXL)",null,"(116,128,140,152,164)",null,"(116,128,140,152,164)",null,"(116,128,140,152,164, XS,S,M,L,XL,XXL)",null,"(116,128,140,152,164, XS,S,M,L,XL,XXL)",null,"(27-30,31-34,35-38, 39-42,43-46,47-49)"]
[null,null,"Målmand 1"]
[null,null,"Målmand 2"]
[null,null,"Målmand 3"]
[null,null,"Målmand 4"]
[null,null,"Målmand 5"]
[{"$f":"COUNTA(A9:A13)","v":0},null,null,{"$f":"COUNTA(D9:E13)","v":0},null,{"$f":"COUNTA(F9:G13)","v":0},null,{"$f":"COUNTA(H9:I13)","v":0},null,{"$f":"COUNTA(J9:K13)","v":0},null,{"$f":"COUNTA(L9:M13)","v":0},null,{"$f":"COUNTA(N9:O13)","v":0},null,{"$f":"COUNTA(P9:Q13)","v":0},null,{"$f":"COUNTA(R9:S13)","v":0},null,{"$f":"COUNTA(T9:U13)","v":0},null,{"$f":"COUNTA(V9:W13)","v":0},null,{"$f":"COUNTA(X9:Y13)","v":0}]
[]
[]
["Størrelses-",null,null,null,null,null,null,116,{"$f":"COUNTIF(H$9:I$13,H17)","v":0},116,{"$f":"COUNTIF(J$9:K$13,J17)","v":0},null,null,null,{"$f":"COUNTIF(N$9:O$13,N17)","v":0},116,{"$f":"COUNTIF(P$9:Q$13,P17)","v":0},116,{"$f":"COUNTIF(R$9:S$13,R17)","v":0},null,null,116,{"$f":"COUNTIF(V$9:W$16,V17)","v":0},"27-30",{"$f":"COUNTIF(X$9:Y$13,X17)","v":0}]
["fordeling",null,null,null,null,null,null,128,0,128,{"$f":"COUNTIF(J$9:K$13,J18)","v":0},null,null,null,0,128,0,128,{"$f":"COUNTIF(R$9:S$13,R18)","v":0},null,null,128,{"$f":"COUNTIF(V$9:W$16,V18)","v":0},"31-34",0]
[null,null,null,null,null,null,null,140,0,140,{"$f":"COUNTIF(J$9:K$13,J19)","v":0},null,null,null,0,140,0,140,{"$f":"COUNTIF(R$9:S$13,R19)","v":0},null,null,140,{"$f":"COUNTIF(V$9:W$16,V19)","v":0},"35-38",0]
[null,null,null,null,null,null,null,152,0,152,{"$f":"COUNTIF(J$9:K$13,J20)","v":0},null,null,null,0,152,0,152,{"$f":"COUNTIF(R$9:S$13,R20)","v":0},null,null,152,{"$f":"COUNTIF(V$9:W$16,V20)","v":0},"39-42",0]
[null,null,null,null,null,null,null,164,0,164,{"$f":"COUNTIF(J$9:K$13,J21)","v":0},null,null,null,0,164,0,164,{"$f":"COUNTIF(R$9:S$13,R21)","v":0},null,null,164,{"$f":"COUNTIF(V$9:W$16,V21)","v":0},"43-46",0]
[null,null,null,"XS",{"$f":"COUNTIF(D$9:E$13,D22)","v":0},"XS",{"$f":"COUNTIF(F$9:G$13,F22)","v":0},null,null,null,null,"XS",{"$f":"COUNTIF(L$9:M$13,L22)","v":0},"XS",0,null,null,null,null,"XS",{"$f":"COUNTIF(T$9:U$16,T22)","v":0},null,null,"47-49",0]
[null,null,null,"S",0,"S",0,null,null,null,null,"S",0,"S",0,null,null,null,null,"S",0]
[null,null,null,"M",0,"M",0,null,null,null,null,"M",0,"M",0,null,null,null,null,"M",0]
[null,null,null,"L",0,"L",0,null,null,null,null,"L",0,"L",0,null,null,null,null,"L",0]
[null,null,null,"XL",0,"XL",0,null,null,null,null,"XL",0,"XL",0,null,null,null,null,"XL",0]
[null,null,null,"XXL",0,"XXL",0,null,null,null,null,"XXL",0,"XXL",0,null,null,null,null,"XXL",0]

{"sheet":"Prisberegner","index":2,"n_rows":22,"n_cols":10,"rows_kept":22,"cut":false,"hidden":false,"merged":[]}
["PRISER (Inkl. FC Horsens klublogo & SPORT 24)"]
["Priser er eksklusiv sponsortryk udover FC Horsensog SPORT 24 logo"]
[]
["MARKSPILLER","Pris","Antal","Total",null,"Inkl",null,"Levering","Udfyld de gule felter"]
["Hjemmebanetrøje",270,{"$f":"Spillertøj!E50","v":1},{"$f":"B5*C5","v":270},null,"Klublogo, Designa logo, nummer, SPORT24 og en sponsorer",null,"Navn"]
["Udebanetrøje",270,{"$f":"Spillertøj!M50","v":0},{"$f":"B6*C6","v":0},null,"Klublogo, Designa logo, nummer, SPORT24 og en sponsorer",null,"Adresse"]
["Spillershorts",165,{"$f":"Spillertøj!G50","v":1},165,null,"FC Horsens logo",null,"Postnr"]
["Strømper",65,{"$f":"Spillertøj!I50","v":0},0,null,null,null,"By"]
["Sleeve",65,{"$f":"Spillertøj!K50","v":0},0,null,null,null,"Hold/årgang"]
[null,null,null,null,null,null,null,"Mobilnummer"]
[null,null,null,null,null,null,null,"Mailadresse"]
["MÅLMAND ","Pris","Antal","Total"]
["Målmandstrøje",270,{"$f":"Spillertøj!O50","v":0},{"$f":"B13*C13","v":0},null,"Klublogo, Designe logo, nummer, SPORT24 og en sponsorer",null,"Ekstra Sponsorlogo ønskes","JA","Ja/Nej"]
["Målmandshorts",165,{"$f":"Spillertøj!Q50","v":0},{"$f":"B14*C14","v":0},null,"FC Horsens logo",null,"Antal Ekstra Sponsor",1,"Vælg antal af sponsor"]
["Målmandstrømper",65,{"$f":"Spillertøj!S50","v":0},0]
["Målmandssleeve",65,{"$f":"Spillertøj!U50","v":0},0]
[]
["EKSTRA SPONSOR TRYK","Pris","Antal","Total"]
["Tryk pr trøje",{"$f":"IF($I$13=\"Ja\",(20), 0)*I14","v":20},{"$f":"C13+C5+C6","v":1},{"$f":"B19*C19","v":20}]
["Opstart sponsortryk",{"$f":"IF($I$13=\"Ja\",(250), 0)*I14","v":250},null,{"$f":"B20","v":250}]
[]
[null,"Sæt pris i alt inkl moms",null,{"$f":"SUM(D5:D20)","v":705}]

{"sheet":"Liste","index":3,"n_rows":3,"n_cols":2,"rows_kept":3,"cut":false,"hidden":false,"merged":[]}
[0,"JA"]
[1,"NEJ"]
[2]