{"text_format":"1","workbook":"xlsx","n_sheets":4,"sheets":["Træner","Målmand","Prisberegner","Ark1"],"not_rendered":{"charts":0,"images":20,"macros":1,"external_links":0,"defined_names":3,"comments":0,"pivot_tables":0},"unopened":[],"bounds":{"document_bytes":16777216,"sheet_cells":100000,"rows_first":2000,"rows_last":500,"rows_between":2000,"halvings":0,"cell_chars":16384,"cell_head_chars":4096},"cells_cut":0,"cells_raw":0,"read":"whole","date_system":"1900"}

{"sheet":"Træner","index":0,"n_rows":39,"n_cols":25,"rows_kept":39,"cut":false,"hidden":false,"merged":[[22,7,22,8],[22,9,22,10],[20,3,20,4],[20,5,20,6],[20,7,20,8],[20,9,20,10],[21,3,21,4],[21,5,21,6],[21,7,21,8],[21,9,21,10],[27,1,38,2],[24,7,24,8],[24,5,24,6],[24,3,24,4],[14,7,14,8],[14,9,14,10],[15,3,15,4],[15,5,15,6],[15,7,15,8],[15,9,15,10],[18,3,18,4],[18,5,18,6],[18,7,18,8],[18,9,18,10],[19,3,19,4],[19,5,19,6],[19,7,19,8],[19,9,19,10],[16,3,16,4],[16,5,16,6],[16,7,16,8],[16,9,16,10],[17,3,17,4],[17,5,17,6],[23,3,23,4],[8,5,8,6],[8,3,8,4],[9,5,9,6],[10,3,10,4],[10,5,10,6],[12,3,12,4],[12,5,12,6],[14,3,14,4],[14,5,14,6],[23,5,23,6],[11,3,11,4],[11,5,11,6],[13,3,13,4],[13,5,13,6],[22,3,22,4],[22,5,22,6],[7,3,7,4],[9,3,9,4],[8,7,8,8],[1,1,1,2],[0,1,0,2],[3,3,3,4],[2,1,6,1],[2,5,2,6],[3,5,3,6],[6,5,6,6],[2,3,2,4],[6,3,6,4],[9,7,9,8],[24,9,24,10],[7,9,7,10],[6,9,6,10],[3,9,3,10],[8,9,8,10],[9,9,9,10],[2,9,2,10],[7,5,7,6],[2,7,2,8],[3,7,3,8],[6,7,6,8],[7,7,7,8],[23,7,23,8],[23,9,23,10],[10,7,10,8],[10,9,10,10],[11,7,11,8],[11,9,11,10],[12,7,12,8],[12,9,12,10],[13,7,13,8],[13,9,13,10],[17,7,17,8],[17,9,17,10],[14,11,14,12],[15,11,15,12],[16,11,16,12],[17,11,17,12],[18,11,18,12],[19,11,19,12],[20,11,20,12],[21,11,21,12],[2,11,2,12],[3,11,3,12],[6,11,6,12],[7,11,7,12],[8,11,8,12],[9,11,9,12],[10,11,10,12],[11,11,11,12],[12,11,12,12],[24,11,24,12],[2,13,2,14],[3,13,3,14],[6,13,6,14],[7,13,7,14],[8,13,8,14],[9,13,9,14],[10,13,10,14],[11,13,11,14],[12,13,12,14],[13,13,13,14],[14,13,14,14],[15,13,15,14],[16,13,16,14],[17,13,17,14],[18,13,18,14],[19,13,19,14],[20,13,20,14],[21,13,21,14],[22,13,22,14],[23,13,23,14],[22,11,22,12],[23,11,23,12],[13,11,13,12],[24,15,24,16],[23,15,23,16],[24,13,24,14],[2,15,2,16],[3,15,3,16],[6,15,6,16],[7,15,7,16],[8,15,8,16],[9,15,9,16],[10,15,10,16],[11,15,11,16],[12,15,12,16],[13,15,13,16],[14,15,14,16],[15,15,15,16],[16,15,16,16],[17,15,17,16],[18,15,18,16],[19,15,19,16],[20,15,20,16],[21,15,21,16],[22,15,22,16],[14,17,14,18],[15,17,15,18],[16,17,16,18],[17,17,17,18],[18,17,18,18],[19,17,19,18],[20,17,20,18],[21,17,21,18],[2,17,2,18],[3,17,3,18],[6,17,6,18],[7,17,7,18],[8,17,8,18],[9,17,9,18],[10,17,10,18],[11,17,11,18],[12,17,12,18],[24,17,24,18],[2,19,2,20],[3,19,3,20],[6,19,6,20],[7,19,7,20],[8,19,8,20],[9,19,9,20],[10,19,10,20],[11,19,11,20],[12,19,12,20],[13,19,13,20],[14,19,14,20],[15,19,15,20],[16,19,16,20],[17,19,17,20],[18,19,18,20],[19,19,19,20],[20,19,20,20],[21,19,21,20],[22,19,22,20],[23,19,23,20],[22,17,22,18],[23,17,23,18],[13,17,13,18],[24,21,24,22],[23,21,23,22],[24,19,24,20],[2,21,2,22],[3,21,3,22],[6,21,6,22],[7,21,7,22],[8,21,8,22],[9,21,9,22],[10,21,10,22],[11,21,11,22],[12,21,12,22],[13,21,13,22],[14,21,14,22],[15,21,15,22],[16,21,16,22],[17,21,17,22],[18,21,18,22],[19,21,19,22],[20,21,20,22],[21,21,21,22],[22,21,22,22],[2,23,2,24],[3,23,3,24],[6,23,6,24],[7,23,7,24],[8,23,8,24],[9,23,9,24],[10,23,10,24],[11,23,11,24],[12,23,12,24],[24,23,24,24],[26,23,26,24],[22,23,22,24],[23,23,23,24],[25,23,25,24],[13,23,13,24],[14,23,14,24],[15,23,15,24],[16,23,16,24],[17,23,17,24],[18,23,18,24],[19,23,19,24],[20,23,20,24],[21,23,21,24]]}
[]
[]
[null,null,null,"T-shirt",null,"Half Zip",null,"Hoodie",null,"Hoodie Full Zip",null,"Langærmet T-shirt",null,"Shorts",null,"Bukser",null,"All Weather Jacket",null,"Bench Jacket",null,"All Weather Jacket",null,"Strømper"]
[null,null,"Farve","Sort 2001",null,"Sort 2001",null,"Sort  2001",null,"Sort  2001",null,"Sort  2001",null,"Sort  2001",null,"Sort  2001",null,"Sort  2114",null,"Sort  2001",null,"Sort  2001",null,"Sort 2114"]
[null,null,"Voksen",219964,130,219973,220,219976,220,219979,250,219967,140,219994,130,219985,190,230877,280,230877,520,220000,340,226906,50]
[null,null,"Børn",219965,100,219974,190,219977,190,219980,240,null,null,219995,100,219986,160,230878,250]
[null,null,null,"Authentic Trænings T-shirt",null,"hmlAUTHENTIC Half zip sweat",null,"Authentic PL Hættetrøje",null,"Authentic Poly Full Zip Hættetrøje",null,"Authentic L/S T-shirt",null,"Authentic Wowen Shorts",null,"Authentic Træningsbukser",null,"Core 2.0 All-Weather Jakke",null,"Authentic Bench Parka Jakke",null,"Authentic All Weather Jakke",null,"hmlESSENTIALFootball socks"]
[null,"Navn","Str","(116,128,140,152,164, XS,S,M,L,XL,XL,XXL, 3XL)",null,"(116,128,140,152,164, XS,S,M,L,XL,XL,XXL, 3XL)",null,"(116,128,140,152,164, XS,S,M,L,XL,XL,XXL, 3XL)",null,"(116,128,140,152,164, XS,S,M,L,XL,XL,XXL, 3XL)",null,"(116,128,140,152,164, XS,S,M,L,XL,XL,XXL, 3XL)",null,"(116,128,140,152,164, XS,S,M,L,XL,XL,XXL, 3XL)",null,"(116,128,140,152,164, XS,S,M,L,XL,XL,XXL, 3XL)",null,"(116,128,140,152,164, XS,S,M,L,XL,XL,XXL, 3XL)",null,"(XS,S,M,L,XL,XL,XXL, 3XL)",null,"(XS,S,M,L,XL,XL,XXL, 3XL)",null,"(27-30,31-34,35-38, 39-42,43-46,47-50)"]
[]
[]
[]
[]
[]
[]
[]
[]
[]
[]
[]
[]
[]
[]
[]
[]
[null,{"$f":"COUNTA(B9:B24)","v":0},null,{"$f":"COUNTA(D9:E24)","v":0},null,{"$f":"COUNTA(F9:G24)","v":0},null,{"$f":"COUNTA(H9:I24)","v":0},null,{"$f":"COUNTA(J9:K24)","v":0},null,{"$f":"COUNTA(L9:M24)","v":0},null,{"$f":"COUNTA(N9:O24)","v":0},null,{"$f":"COUNTA(P9:Q24)","v":0},null,{"$f":"COUNTA(R9:S24)","v":0},null,{"$f":"COUNTA(T9:U24)","v":0},null,{"$f":"COUNTA(V9:W24)","v":0},null,{"$f":"COUNTA(X9:Y39)","v":0}]
[]
[]
[null,"Størrelsesfordeling",null,116,{"$f":"COUNTIF(D$9:E$24,D28)","v":0},116,{"$f":"COUNTIF(F$9:G$24,F28)","v":0},116,{"$f":"COUNTIF(H$9:I$24,H28)","v":0},116,{"$f":"COUNTIF(J$9:K$24,J28)","v":0},null,null,116,{"$f":"COUNTIF(N$9:O$24,N28)","v":0},116,{"$f":"COUNTIF(P$9:Q$24,P28)","v":0},116,{"$f":"COUNTIF(R$9:S$24,R28)","v":0},null,null,null,null,"27-30",{"$f":"COUNTIF(X$9:Y$24,X28)","v":0}]
[null,null,null,128,{"$f":"COUNTIF(D$9:E$24,D29)","v":0},128,0,128,0,128,{"$f":"COUNTIF(J$9:K$24,J29)","v":0},null,null,128,{"$f":"COUNTIF(N$9:O$24,N29)","v":0},128,{"$f":"COUNTIF(P$9:Q$24,P29)","v":0},128,0,null,null,null,null,"31-34",0]
[null,null,null,140,{"$f":"COUNTIF(D$9:E$24,D30)","v":0},140,0,140,0,140,{"$f":"COUNTIF(J$9:K$24,J30)","v":0},null,null,140,{"$f":"COUNTIF(N$9:O$24,N30)","v":0},140,{"$f":"COUNTIF(P$9:Q$24,P30)","v":0},140,0,null,null,null,null,"35-38",0]
[null,null,null,152,{"$f":"COUNTIF(D$9:E$24,D31)","v":0},152,0,152,0,152,{"$f":"COUNTIF(J$9:K$24,J31)","v":0},null,null,152,{"$f":"COUNTIF(N$9:O$24,N31)","v":0},152,{"$f":"COUNTIF(P$9:Q$24,P31)","v":0},152,0,null,null,null,null,"39-42",0]
[null,null,null,164,{"$f":"COUNTIF(D$9:E$24,D32)","v":0},164,0,164,0,164,{"$f":"COUNTIF(J$9:K$24,J32)","v":0},null,null,164,{"$f":"COUNTIF(N$9:O$24,N32)","v":0},164,{"$f":"COUNTIF(P$9:Q$24,P32)","v":0},164,0,null,null,null,null,"43-46",0]
[null,null,null,null,null,"XS",0,"XS",0,null,null,"XS",{"$f":"COUNTIF(L$9:M$24,L33)","v":0},null,null,null,null,"XS",0,"XS",{"$f":"COUNTIF(T$9:U$24,T33)","v":0},"XS",{"$f":"COUNTIF(V$9:W$24,V33)","v":0},"47-50",0]
[null,null,null,"S",{"$f":"COUNTIF(D$9:E$24,D34)","v":0},"S",0,"S",0,"S",{"$f":"COUNTIF(J$9:K$24,J34)","v":0},"S",0,"S",{"$f":"COUNTIF(N$9:O$24,N34)","v":0},"S",{"$f":"COUNTIF(P$9:Q$24,P34)","v":0},"S",0,"S",0,"S",0]
[null,null,null,"M",0,"M",0,"M",0,"M",0,"M",0,"M",0,"M",0,"M",0,"M",0,"M",0]
[null,null,null,"L",0,"L",0,"L",0,"L",0,"L",0,"L",0,"L",0,"L",0,"L",0,"L",0]
[null,null,null,"XL",0,"XL",0,"XL",0,"XL",0,"XL",0,"XL",0,"XL",0,"XL",0,"XL",0,"XL",0]
[null,null,null,"XXL",0,"XXL",0,"XXL",0,"XXL",0,"XXL",0,"XXL",0,"XXL",0,"XXL",0,"XXL",0,"XXL",0]
[null,null,null,"3XL",0,"3XL",0,"3XL",0,"3XL",0,"3XL",0,"3XL",0,"3XL",0,"3XL",0,"3XL",0,"3XL",0]

{"sheet":"Målmand","index":1,"n_rows":27,"n_cols":25,"rows_kept":27,"cut":false,"hidden":true,"merged":[[13,19,13,20],[13,21,13,22],[13,23,13,24],[15,19,15,20],[15,21,15,22],[15,23,15,24],[12,23,12,24],[14,19,14,20],[14,21,14,22],[14,23,14,24],[9,23,9,24],[10,19,10,20],[10,21,10,22],[10,23,10,24],[11,19,11,20],[11,21,11,22],[11,23,11,24],[7,19,7,20],[7,21,7,22],[7,23,7,24],[8,19,8,20],[8,21,8,22],[8,23,8,24],[13,13,13,14],[13,15,13,16],[13,17,13,18],[2,19,2,20],[2,21,2,22],[2,23,2,24],[3,19,3,20],[3,21,3,22],[3,23,3,24],[6,19,6,20],[2,13,2,14],[2,15,2,16],[2,17,2,18],[3,13,3,14],[3,15,3,16],[3,17,3,18],[6,13,6,14],[6,15,6,16],[6,17,6,18],[11,17,11,18],[12,17,12,18],[12,19,12,20],[12,21,12,22],[11,13,11,14],[11,15,11,16],[12,13,12,14],[12,15,12,16],[9,17,9,18],[10,17,10,18],[9,19,9,20],[9,21,9,22],[9,13,9,14],[9,15,9,16],[10,13,10,14],[10,15,10,16],[7,15,7,16],[7,17,7,18],[8,15,8,16],[8,17,8,18],[7,13,7,14],[8,13,8,14],[6,21,6,22],[6,23,6,24],[13,3,13,4],[13,5,13,6],[13,7,13,8],[13,9,13,10],[13,11,13,12],[12,3,12,4],[12,5,12,6],[12,7,12,8],[12,9,12,10],[12,11,12,12],[10,3,10,4],[10,5,10,6],[10,7,10,8],[10,9,10,10],[10,11,10,12],[11,3,11,4],[11,5,11,6],[11,7,11,8],[11,9,11,10],[11,11,11,12],[8,3,8,4],[8,5,8,6],[8,7,8,8],[8,9,8,10],[8,11,8,12],[9,3,9,4],[9,5,9,6],[9,7,9,8],[9,9,9,10],[9,11,9,12],[6,9,6,10],[6,11,6,12],[7,3,7,4],[7,5,7,6],[7,7,7,8],[7,9,7,10],[7,11,7,12],[2,7,2,8],[2,9,2,10],[2,11,2,12],[3,3,3,4],[3,5,3,6],[3,7,3,8],[3,9,3,10],[3,11,3,12],[0,0,0,2],[1,0,1,2],[2,0,6,0],[2,1,6,1],[2,3,2,4],[2,5,2,6],[6,3,6,4],[6,5,6,6],[6,7,6,8]]}
[]
[]
["Skriv det navn som skal trykkes på trøjen ","Skriv  nummer",null,"MÅLMAND VOKSEN - MED NAVN",null,"MÅLMAND VOKSEN - UDEN NAVN",null,"MÅLMAND BØRN - MED NAVN",null,"MÅLMAND BØRN - UDEN NAVN",null,"MÅLMAND VOKSEN - MED NAVN",null,"MÅLMAND VOKSEN - UDEN NAVN",null,"MÅLMAND BØRN - MED NAVN",null,"MÅLMAND BØRN - UDEN NAVN",null,"MÅLMANDSSHORTS VOKSEN",null,"MÅLMANDSSHORTS BØRN",null," STRØMPER"]
[null,null,"Vælg farve","Grøn 05",null,"Grøn 05",null,"Grøn 05",null,"Grøn 05",null,"Grøn 20",null,"Grøn 20",null,"Grøn 20",null,"Grøn 20",null,"Grøn - 05",null,"Grøn - 05",null,"Grøn - 05"]
[null,null,"Voksen",706280,320,706280,260,null,null,null,null,706519,370,706519,310,null,null,null,null,705752,185,705753,165,703441,67.5]
[null,null,"Børn",null,null,null,null,706282,280,706282,220,null,null,null,null,706282,335,706282,275,null,null,null,null,703441,67.5]
[null,null,null,"VOKSEN",null,"VOKSEN",null,"BARN",null,"BARN",null,"VOKSEN",null,"VOKSEN",null,"BARN",null,"BARN",null,"Goal",null,"Goal",null,"teamLiga"]
["NAVNETRYK - 4 CM","NUMMER",null,"(XS,S,M,L,XL,XL,XXL)",null,"(XS,S,M,L,XL,XL,XXL)",null,"(116,128,140,152,164)",null,"(116,128,140,152,164)",null,"(XS,S,M,L,XL,XL,XXL)",null,"(XS,S,M,L,XL,XL,XXL)",null,"(116,128,140,152,164)",null,"(116,128,140,152,164)",null,"(116,128,140,152,164, XS,S,M,L,XL,XXL)",null,"(116,128,140,152,164, XS,S,M,L,XL,XXL)",null,"(27-30,31-34,35-38, 39-42,43-46,47-49)"]
[null,null,"Målmand 1"]
[null,null,"Målmand 2"]
[null,null,"Målmand 3"]
[null,null,"Målmand 4"]
[null,null,"Målmand 5"]
[{"$f":"COUNTA(A9:A13)","v":0},null,null,{"$f":"COUNTA(D9:E13)","v":0},null,{"$f":"COUNTA(F9:G13)","v":0},null,{"$f":"COUNTA(H9:I13)","v":0},null,{"$f":"COUNTA(J9:K13)","v":0},null,{"$f":"COUNTA(L9:M13)","v":0},null,{"$f":"COUNTA(N9:O13)","v":0},null,{"$f":"COUNTA(P9:Q13)","v":0},null,{"$f":"COUNTA(R9:S13)","v":0},null,{"$f":"COUNTA(T9:U13)","v":0},null,{"$f":"COUNTA(V9:W13)","v":0},null,{"$f":"COUNTA(X9:Y13)","v":0}]
[]
[]
["Størrelses-",null,null,null,null,null,null,116,{"$f":"COUNTIF(H$9:I$13,H17)","v":0},116,{"$f":"COUNTIF(J$9:K$13,J17)","v":0},null,null,null,{"$f":"COUNTIF(N$9:O$13,N17)","v":0},116,{"$f":"COUNTIF(P$9:Q$13,P17)","v":0},116,{"$f":"COUNTIF(R$9:S$13,R17)","v":0},null,null,116,{"$f":"COUNTIF(V$9:W$16,V17)","v":0},"27-30",{"$f":"COUNTIF(X$9:Y$13,X17)","v":0}]
["fordeling",null,null,null,null,null,null,128,0,128,{"$f":"COUNTIF(J$9:K$13,J18)","v":0},null,null,null,0,128,0,128,{"$f":"COUNTIF(R$9:S$13,R18)","v":0},null,null,128,{"$f":"COUNTIF(V$9:W$16,V18)","v":0},"31-34",0]
[null,null,null,null,null,null,null,140,0,140,{"$f":"COUNTIF(J$9:K$13,J19)","v":0},null,null,null,0,140,0,140,{"$f":"COUNTIF(R$9:S$13,R19)","v":0},null,null,140,{"$f":"COUNTIF(V$9:W$16,V19)","v":0},"35-38",0]
[null,null,null,null,null,null,null,152,0,152,{"$f":"COUNTIF(J$9:K$13,J20)","v":0},null,null,null,0,152,0,152,{"$f":"COUNTIF(R$9:S$13,R20)","v":0},null,null,152,{"$f":"COUNTIF(V$9:W$16,V20)","v":0},"39-42",0]
[null,null,null,null,null,null,null,164,0,164,{"$f":"COUNTIF(J$9:K$13,J21)","v":0},null,null,null,0,164,0,164,{"$f":"COUNTIF(R$9:S$13,R21)","v":0},null,null,164,{"$f":"COUNTIF(V$9:W$16,V21)","v":0},"43-46",0]
[null,null,null,"XS",{"$f":"COUNTIF(D$9:E$13,D22)","v":0},"XS",{"$f":"COUNTIF(F$9:G$13,F22)","v":0},null,null,null,null,"XS",{"$f":"COUNTIF(L$9:M$13,L22)","v":0},"XS",0,null,null,null,null,"XS",{"$f":"COUNTIF(T$9:U$16,T22)","v":0},null,null,"47-49",0]
[null,null,null,"S",0,"S",0,null,null,null,null,"S",0,"S",0,null,null,null,null,"S",0]
[null,null,null,"M",0,"M",0,null,null,null,null,"M",0,"M",0,null,null,null,null,"M",0]
[null,null,null,"L",0,"L",0,null,null,null,null,"L",0,"L",0,null,null,null,null,"L",0]
[null,null,null,"XL",0,"XL",0,null,null,null,null,"XL",0,"XL",0,null,null,null,null,"XL",0]
[null,null,null,"XXL",0,"XXL",0,null,null,null,null,"XXL",0,"XXL",0,null,null,null,null,"XXL",0]

{"sheet":"Prisberegner","index":2,"n_rows":24,"n_cols":10,"rows_kept":24,"cut":false,"hidden":false,"merged":[]}
["PRISER (Inkl. FC Horsens klublogo & SPORT 24)"]
["Priser er eksklusiv sponsortryk udover FC Horsensog SPORT 24 logo"]
[]
["KLUBDRAGT","Pris","Antal","Total",null,"Inkl",null,"Levering","Udfyld de gule felter"]
["T-shirt Voksen",130,{"$f":"SUM(Træner!E33:E39)","v":0},{"$f":"B5*C5","v":0},null,"Det er inkl FC Horsens logo, SPORT 24 på ærmet",null,"Navn"]
["T-shirt Børn",100,{"$f":"SUM(Træner!E28:E32)","v":0},{"$f":"B6*C6","v":0},null,"Det er inkl FC Horsens logo, SPORT 24 på ærmet",null,"Adresse"]
["Half Zip Voksen",220,{"$f":"SUM(Træner!G33:G39)","v":0},0,null,"Det er inkl FC Horsens logo, SPORT 24 på ærmet",null,"Postnr"]
["Half Zip Børn",190,{"$f":"SUM(Træner!G28:G32)","v":0},0,null,"Det er inkl FC Horsens logo, SPORT 24 på ærmet",null,"By"]
["Hooide Voksen",220,{"$f":"SUM(Træner!I33:I39)","v":0},0,null,null,null,"Hold/årgang"]
["Hoodie Børn",190,{"$f":"SUM(Træner!I28:I32)","v":0},0,null,null,null,"Mobilnummer"]
["Hoodie Full Zip Voksen",250,{"$f":"SUM(Træner!K33:K39)","v":0},0,null,null,null,"Mailadresse"]
["Hoodie Full Zip Børn",240,{"$f":"SUM(Træner!K28:K32)","v":0},0]
["Langærmet T-shirt Voksen",140,{"$f":"SUM(Træner!M33:M39)","v":0},0,null,null,null,"Ekstra Sponsorlogo ønskes","NEJ","Ja/Nej"]
["Shorts Voksen",130,{"$f":"SUM(Træner!O33:O39)","v":0},0,null,null,null,"Antal Ekstra Sponsor",0,"Vælg antal af sponsor"]
["Shorts Børn",100,{"$f":"SUM(Træner!O28:O32)","v":0},0]
["Bukser Voksen",190,{"$f":"SUM(Træner!Q33:Q39)","v":0},0]
["Bukser Børn",160,{"$f":"SUM(Træner!Q28:Q32)","v":0},0]
["All Weather Jacket voksen",280,{"$f":"SUM(Træner!S33:S39)","v":0},0]
["All Weather Jacket Børn",250,{"$f":"SUM(Træner!S28:S32)","v":0},0]
["Bench Jacket",520,{"$f":"SUM(Træner!U33:U39)","v":0},0]
["All Weather Jacket",340,{"$f":"SUM(Træner!W33:W39)","v":0},0]
["Strømper",50,{"$f":"Træner!X25","v":0},0]
[]
[null,"Pris i alt inkl moms",null,{"$f":"SUM(D5:D23)","v":0}]

{"sheet":"Ark1","index":3,"n_rows":3,"n_cols":2,"rows_kept":3,"cut":false,"hidden":false,"merged":[]}
[0,"JA"]
[1,"NEJ"]
[2]